BEGIN:VCALENDAR
VERSION:2.0
PRODID:-//COORANHALL.ORG.AU - ECPv4.8.1//NONSGML v1.0//EN
CALSCALE:GREGORIAN
METHOD:PUBLISH
X-WR-CALNAME:COORANHALL.ORG.AU
X-ORIGINAL-URL:https://cooranhall.org.au
X-WR-CALDESC:Events for COORANHALL.ORG.AU
BEGIN:VEVENT
DTSTART;TZID=UTC+10:20190329T093000
DTEND;TZID=UTC+10:20190329T103000
DTSTAMP:20190301T150130
CREATED:20190207T083124Z
LAST-MODIFIED:20190207T083124Z
UID:1947-1553851800-1553855400@cooranhall.org.au
SUMMARY:Zumba Classes with Lauren McNaughton
DESCRIPTION:Weekly Zumba workout for fun and fitness. Wednesdays and Fridays 9.30 to 10.30am. Drop in or Class Passes available. \n
URL:https://cooranhall.org.au/event/zumba-classes-with-lauren-mcnaughton-2/2019-03-29/
LOCATION:Cooran Memorial Hall\, Cooran\, Queensland\, Australia
CATEGORIES:Cooran Hall Bookings Calendar,Weekly Classes & Workshops
ATTACH;FMTTYPE=image/jpeg:https://cooranhall.org.au/wp-content/uploads/2016/06/thumbnail_Zumba-Flyer-1.jpg
ORGANIZER;CN="Lauren%20McNaughton":MAILTO:lozmc@live.com.au
END:VEVENT
END:VCALENDAR